BEGIN:VCALENDAR
VERSION:2.0
PRODID:-//wp-events-plugin.com//5.981//EN
TZID:Europe/Berlin
X-WR-TIMEZONE:Europe/Berlin
BEGIN:VEVENT
UID:1306@steuerberater-kempf.de
DTSTART;VALUE=DATE:20260610
DTEND;VALUE=DATE:20260611
DTSTAMP:20240510T141958Z
URL:https://www.steuerberater-kempf.de/steuertermin/lohnsteueranmeldungen-
 juni-2026/
SUMMARY:Lohnsteueranmeldungen Juni 2026
DESCRIPTION:Die Lohnsteueranmeldungen Juni 2026 ist fällig am 10.06.26 - N
 icht vergessen\, die Lohn- und Kirchenlohnsteuer und den Solidaritätszus
 chlag zu bezahlen! Die Voranmeldungen für die Lohnsteuer sind ebenfall
 s per Elster-Software elektronisch ans Finanzamt zu übermitteln.
END:VEVENT
END:VCALENDAR