BEGIN:VCALENDAR
VERSION:2.0
PRODID:-//wp-events-plugin.com//5.981//EN
TZID:Europe/Berlin
X-WR-TIMEZONE:Europe/Berlin
BEGIN:VEVENT
UID:1305@steuerberater-kempf.de
DTSTART;VALUE=DATE:20260511
DTEND;VALUE=DATE:20260512
DTSTAMP:20240510T142019Z
URL:https://www.steuerberater-kempf.de/steuertermin/lohnsteueranmeldungen-
 mai-2026/
SUMMARY:Lohnsteueranmeldungen Mai 2026
DESCRIPTION:Die Lohnsteueranmeldungen Mai 2026 ist fällig am 11.05.26 - Ni
 cht vergessen\, die Lohn- und Kirchenlohnsteuer und den Solidaritätszusc
 hlag zu bezahlen! Die Voranmeldungen für die Lohnsteuer sind ebenfalls
  per Elster-Software elektronisch ans Finanzamt zu übermitteln.
END:VEVENT
END:VCALENDAR